BEGIN:VCALENDAR
VERSION:2.0
PRODID:-//fort-la-pree - ECPv6.10.0//NONSGML v1.0//EN
CALSCALE:GREGORIAN
METHOD:PUBLISH
X-WR-CALNAME:fort-la-pree
X-ORIGINAL-URL:https://www.fort-la-pree.com
X-WR-CALDESC:Évènements pour fort-la-pree
REFRESH-INTERVAL;VALUE=DURATION:PT1H
X-Robots-Tag:noindex
X-PUBLISHED-TTL:PT1H
BEGIN:VTIMEZONE
TZID:Europe/Paris
BEGIN:DAYLIGHT
TZOFFSETFROM:+0100
TZOFFSETTO:+0200
TZNAME:CEST
DTSTART:20260329T010000
END:DAYLIGHT
BEGIN:STANDARD
TZOFFSETFROM:+0200
TZOFFSETTO:+0100
TZNAME:CET
DTSTART:20261025T010000
END:STANDARD
END:VTIMEZONE
BEGIN:VEVENT
DTSTART;TZID=Europe/Paris:20261001T080000
DTEND;TZID=Europe/Paris:20261009T180000
DTSTAMP:20260422T055713
CREATED:20260224T141745Z
LAST-MODIFIED:20260224T141745Z
UID:10000947-1790841600-1791568800@www.fort-la-pree.com
SUMMARY:Fermeture du site
DESCRIPTION:🔔 Fermeture du site \nLe Fort La Prée est actuellement fermé au public. \nNous aurons le plaisir de vous accueillir de nouveau lors de nos Portes Ouvertes les 10 et 11 octobre 🎉\nPuis réouverture pour les vacances de la Toussaint. \nMerci de votre compréhension et à très bientôt au Fort La Prée !
URL:https://www.fort-la-pree.com/event/fermeture-du-site/
LOCATION:Fort la Prée\, Route de Rivedoux\, LA FLOTTE\, 17630\, France
CATEGORIES:Fermeture
END:VEVENT
BEGIN:VEVENT
DTSTART;VALUE=DATE:20261010
DTEND;VALUE=DATE:20261012
DTSTAMP:20260422T055713
CREATED:20260224T154259Z
LAST-MODIFIED:20260224T154259Z
UID:10000956-1791590400-1791763199@www.fort-la-pree.com
SUMMARY:PORTES OUVERTES
DESCRIPTION:📢 PORTES OUVERTES 2026 \n  \nLe Fort La Prée vous ouvre ses portes pour un week-end placé sous le signe de la découverte et de la convivialité. ✨ \nQue vous veniez pour la première fois ou pour redécouvrir ce lieu chargé d’histoire\, c’est l’occasion idéale d’explorer le plus ancien bâtiment militaire de l’Île de Ré.   \n  \n🗓️ Date : Samedi 10 et Dimanche 11 octobre 2026 \n🕗 Horaires : 10h – 18h30 \n📍Où ? : Route de Rivedoux\, 17630\, La Flotte  \n  \nEntrée gratuite ! \n🍴 Buvette\, restauration légère sur place.  \n  \nInformations : \n📞 07.49.82.11.11 / 05.46.09.73.33 \n📧 fortlapree17@gmail.com
URL:https://www.fort-la-pree.com/event/portes-ouvertes/
LOCATION:Fort la Prée\, Route de Rivedoux\, LA FLOTTE\, 17630\, France
CATEGORIES:Evènements
END:VEVENT
BEGIN:VEVENT
DTSTART;TZID=Europe/Paris:20261012T080000
DTEND;TZID=Europe/Paris:20261017T180000
DTSTAMP:20260422T055713
CREATED:20260224T145834Z
LAST-MODIFIED:20260224T145834Z
UID:10000948-1791792000-1792260000@www.fort-la-pree.com
SUMMARY:Fermeture du site
DESCRIPTION:🔔 Fermeture du site \nLe Fort La Prée est actuellement fermé au public. \nNous aurons le plaisir de vous accueillir de nouveau pour les vacances de la Toussaint. \nMerci de votre compréhension et à très bientôt au Fort La Prée !
URL:https://www.fort-la-pree.com/event/fermeture-du-site-2/
LOCATION:Fort la Prée\, Route de Rivedoux\, LA FLOTTE\, 17630\, France
CATEGORIES:Fermeture
END:VEVENT
BEGIN:VEVENT
DTSTART;VALUE=DATE:20261018
DTEND;VALUE=DATE:20261019
DTSTAMP:20260422T055713
CREATED:20260224T155040Z
LAST-MODIFIED:20260224T155040Z
UID:10000959-1792281600-1792367999@www.fort-la-pree.com
SUMMARY:OUVERTURE - Vacances de la Toussaint
DESCRIPTION:🍂 Ouverture – Vacances de la Toussaint \nLe Fort La Prée sera ouvert de 10h à 18h\,\n📅 du dimanche 18 au samedi 31 octobre. \nVenez profiter d’une visite en famille ou entre amis pendant les vacances ! \nNous vous attendons nombreux au Fort La Prée.
URL:https://www.fort-la-pree.com/event/ouverture-vacances-de-la-toussaint/
LOCATION:Fort la Prée\, Route de Rivedoux\, LA FLOTTE\, 17630\, France
CATEGORIES:Ouvert
END:VEVENT
BEGIN:VEVENT
DTSTART;VALUE=DATE:20261024
DTEND;VALUE=DATE:20261025
DTSTAMP:20260422T055713
CREATED:20260224T155113Z
LAST-MODIFIED:20260224T155113Z
UID:10000960-1792800000-1792886399@www.fort-la-pree.com
SUMMARY:Fermeture
DESCRIPTION:
URL:https://www.fort-la-pree.com/event/fermeture-6/
LOCATION:Fort la Prée\, Route de Rivedoux\, LA FLOTTE\, 17630\, France
CATEGORIES:Fermeture
END:VEVENT
BEGIN:VEVENT
DTSTART;VALUE=DATE:20261030
DTEND;VALUE=DATE:20261101
DTSTAMP:20260422T055713
CREATED:20260224T154513Z
LAST-MODIFIED:20260224T154513Z
UID:10000957-1793318400-1793491199@www.fort-la-pree.com
SUMMARY:HALLOWEEN
DESCRIPTION:📢 SPÉCIAL HALLOWEEN! \n  \nLe Fort se transforme en repère mystérieux pour célébrer Halloween comme il se doit… ✨ \nSorcières\, fantômes\, vampires et créatures en tout genre sont attendus avec leurs plus effrayants déguisements. Venez frissonner en famille ou entre amis dans un cadre historique qui se prête parfaitement aux mystères d’Halloween… Oserez-vous franchir les portes du Fort ?  \n  \n🗓️ Date : Dimanche 5 avril 2026 \n🕗 Horaires : Visite guidée à 10h. Chasse aux Bonbons à 15h \n📍Où ? : Route de Rivedoux\, 17630\, La Flotte  \n  \n⏳Attention : Participation de 6€ pour enfants (4-15 ans) pour la Chasse aux bonbons \n  \nInformations :  \n📞 07.49.82.11.11 / 05.46.09.73.33 \n📧 fortlapree17@gmail.com \nHALLOWEEN
URL:https://www.fort-la-pree.com/event/halloween/
CATEGORIES:Evènements
END:VEVENT
END:VCALENDAR