BEGIN:VCALENDAR
VERSION:2.0
PRODID:-//fort-la-pree - ECPv6.10.0//NONSGML v1.0//EN
CALSCALE:GREGORIAN
METHOD:PUBLISH
X-WR-CALNAME:fort-la-pree
X-ORIGINAL-URL:https://www.fort-la-pree.com
X-WR-CALDESC:Évènements pour fort-la-pree
REFRESH-INTERVAL;VALUE=DURATION:PT1H
X-Robots-Tag:noindex
X-PUBLISHED-TTL:PT1H
BEGIN:VTIMEZONE
TZID:Europe/Paris
BEGIN:DAYLIGHT
TZOFFSETFROM:+0100
TZOFFSETTO:+0200
TZNAME:CEST
DTSTART:20260329T010000
END:DAYLIGHT
BEGIN:STANDARD
TZOFFSETFROM:+0200
TZOFFSETTO:+0100
TZNAME:CET
DTSTART:20261025T010000
END:STANDARD
END:VTIMEZONE
BEGIN:VEVENT
DTSTART;VALUE=DATE:20260502
DTEND;VALUE=DATE:20260503
DTSTAMP:20260421T210420
CREATED:20260224T132645Z
LAST-MODIFIED:20260224T132645Z
UID:10000927-1777680000-1777766399@www.fort-la-pree.com
SUMMARY:Fermeture
DESCRIPTION:
URL:https://www.fort-la-pree.com/event/fermeture-4/
CATEGORIES:Fermeture
END:VEVENT
BEGIN:VEVENT
DTSTART;TZID=Europe/Paris:20260503T093000
DTEND;TZID=Europe/Paris:20260503T183000
DTSTAMP:20260421T210420
CREATED:20260224T133409Z
LAST-MODIFIED:20260224T150815Z
UID:10000928-1777800600-1777833000@www.fort-la-pree.com
SUMMARY:Brocante de printemps
DESCRIPTION:📢 À VOS AGENDAS : LA BROCANTE DE PRINTEMPS DU FORT LA PRÉE DÉBARQUE !  \nVenez flâner au cœur du Fort et chiner parmi les nombreux stands d’exposants : objets anciens\, curiosités\, livres\, décoration… il y en aura pour tous les goûts. L’occasion idéale de dénicher de belles trouvailles tout en profitant d’une journée conviviale dans un cadre historique exceptionnel ! ✨ \n  \n🗓️ Date : Dimanche 3 mai 2026 \n🕗 Horaires : de 9h30 à 18h30 \n📍Où ? : Route de Rivedoux\, 17630\, La Flotte  \n  \n⏳Attention : Clôture des inscriptions le dimanche 26 avril ! \nInfos & Réservations :  \n📞 07.49.82.11.11 / 05.46.09.73.33 \n📧 fortlapree17@gmail.com
URL:https://www.fort-la-pree.com/event/brocante-de-printemps-2/
LOCATION:Fort la Prée\, Route de Rivedoux\, LA FLOTTE\, 17630\, France
CATEGORIES:Evènements
END:VEVENT
BEGIN:VEVENT
DTSTART;TZID=Europe/Paris:20260508T080000
DTEND;TZID=Europe/Paris:20260511T140000
DTSTAMP:20260421T210420
CREATED:20260224T133701Z
LAST-MODIFIED:20260224T134158Z
UID:10000929-1778227200-1778508000@www.fort-la-pree.com
SUMMARY:Fermeture - privatisation
DESCRIPTION:⚠️ Fermeture exceptionnelle \nLe Fort La Prée sera fermé au public ce week-end en raison de sa privatisation pour la célébration d’un mariage. \n🕑 Réouverture lundi à 14h. \nNous vous remercions pour votre compréhension et serons ravis de vous accueillir à nouveau dès la réouverture ! \nÀ très bientôt au Fort La Prée.
URL:https://www.fort-la-pree.com/event/fermeture-5/
LOCATION:Fort la Prée\, Route de Rivedoux\, LA FLOTTE\, 17630\, France
CATEGORIES:Fermeture
END:VEVENT
BEGIN:VEVENT
DTSTART;TZID=Europe/Paris:20260515T080000
DTEND;TZID=Europe/Paris:20260518T140000
DTSTAMP:20260421T210420
CREATED:20260224T134315Z
LAST-MODIFIED:20260224T134315Z
UID:10000930-1778832000-1779112800@www.fort-la-pree.com
SUMMARY:Fermeture - privatisation
DESCRIPTION:⚠️ Fermeture exceptionnelle \nLe Fort La Prée sera fermé au public ce week-end en raison de sa privatisation pour la célébration d’un mariage. \n🕑 Réouverture lundi à 14h. \nNous vous remercions pour votre compréhension et serons ravis de vous accueillir à nouveau dès la réouverture ! \nÀ très bientôt au Fort La Prée.
URL:https://www.fort-la-pree.com/event/fermeture-privatisation/
LOCATION:Fort la Prée\, Route de Rivedoux\, LA FLOTTE\, 17630\, France
CATEGORIES:Fermeture
END:VEVENT
BEGIN:VEVENT
DTSTART;TZID=Europe/Paris:20260522T080000
DTEND;TZID=Europe/Paris:20260525T140000
DTSTAMP:20260421T210420
CREATED:20260224T134413Z
LAST-MODIFIED:20260224T134413Z
UID:10000931-1779436800-1779717600@www.fort-la-pree.com
SUMMARY:Fermeture - privatisation
DESCRIPTION:⚠️ Fermeture exceptionnelle \nLe Fort La Prée sera fermé au public ce week-end en raison de sa privatisation pour la célébration d’un mariage. \n🕑 Réouverture lundi à 14h. \nNous vous remercions pour votre compréhension et serons ravis de vous accueillir à nouveau dès la réouverture ! \nÀ très bientôt au Fort La Prée.
URL:https://www.fort-la-pree.com/event/fermeture-privatisation-2/
LOCATION:Fort la Prée\, Route de Rivedoux\, LA FLOTTE\, 17630\, France
CATEGORIES:Fermeture
END:VEVENT
BEGIN:VEVENT
DTSTART;TZID=Europe/Paris:20260529T080000
DTEND;TZID=Europe/Paris:20260601T140000
DTSTAMP:20260421T210420
CREATED:20260224T134504Z
LAST-MODIFIED:20260224T134504Z
UID:10000932-1780041600-1780322400@www.fort-la-pree.com
SUMMARY:Fermeture - privatisation
DESCRIPTION:⚠️ Fermeture exceptionnelle \nLe Fort La Prée sera fermé au public ce week-end en raison de sa privatisation pour la célébration d’un mariage. \n🕑 Réouverture lundi à 14h. \nNous vous remercions pour votre compréhension et serons ravis de vous accueillir à nouveau dès la réouverture ! \nÀ très bientôt au Fort La Prée.
URL:https://www.fort-la-pree.com/event/fermeture-privatisation-3/
LOCATION:Fort la Prée\, Route de Rivedoux\, LA FLOTTE\, 17630\, France
CATEGORIES:Fermeture
END:VEVENT
END:VCALENDAR