BEGIN:VCALENDAR
VERSION:2.0
PRODID:-//fort-la-pree - ECPv6.10.0//NONSGML v1.0//EN
CALSCALE:GREGORIAN
METHOD:PUBLISH
X-WR-CALNAME:fort-la-pree
X-ORIGINAL-URL:https://www.fort-la-pree.com
X-WR-CALDESC:Évènements pour fort-la-pree
REFRESH-INTERVAL;VALUE=DURATION:PT1H
X-Robots-Tag:noindex
X-PUBLISHED-TTL:PT1H
BEGIN:VTIMEZONE
TZID:Europe/Paris
BEGIN:DAYLIGHT
TZOFFSETFROM:+0100
TZOFFSETTO:+0200
TZNAME:CEST
DTSTART:20250330T010000
END:DAYLIGHT
BEGIN:STANDARD
TZOFFSETFROM:+0200
TZOFFSETTO:+0100
TZNAME:CET
DTSTART:20251026T010000
END:STANDARD
END:VTIMEZONE
BEGIN:VEVENT
DTSTART;VALUE=DATE:20250901
DTEND;VALUE=DATE:20250902
DTSTAMP:20260421T182847
CREATED:20250412T103235Z
LAST-MODIFIED:20250427T150127Z
UID:10000844-1756684800-1756771199@www.fort-la-pree.com
SUMMARY:Ouvert de 14h30 à 18h30
DESCRIPTION:Ouvert à la visite
URL:https://www.fort-la-pree.com/event/ouvert-de-14h30-a-18h30-2/2025-09-01/
CATEGORIES:Ouvert
END:VEVENT
BEGIN:VEVENT
DTSTART;VALUE=DATE:20250902
DTEND;VALUE=DATE:20250903
DTSTAMP:20260421T182847
CREATED:20250412T104258Z
LAST-MODIFIED:20250918T161610Z
UID:10000857-1756771200-1756857599@www.fort-la-pree.com
SUMMARY:Ouvert de 10h à 18h30
DESCRIPTION:Ouvert à la visite
URL:https://www.fort-la-pree.com/event/ouvert-de-10h-a-18h30-5/2025-09-02/
CATEGORIES:Ouvert
END:VEVENT
BEGIN:VEVENT
DTSTART;VALUE=DATE:20250903
DTEND;VALUE=DATE:20250904
DTSTAMP:20260421T182847
CREATED:20250412T104328Z
LAST-MODIFIED:20250427T150107Z
UID:10000869-1756857600-1756943999@www.fort-la-pree.com
SUMMARY:Ouvert de 10h à 18h30
DESCRIPTION:Ouvert à la visite
URL:https://www.fort-la-pree.com/event/ouvert-de-10h-a-18h30-6/2025-09-03/
CATEGORIES:Ouvert
END:VEVENT
BEGIN:VEVENT
DTSTART;VALUE=DATE:20250904
DTEND;VALUE=DATE:20250905
DTSTAMP:20260421T182847
CREATED:20250412T104354Z
LAST-MODIFIED:20250918T155309Z
UID:10000880-1756944000-1757030399@www.fort-la-pree.com
SUMMARY:Ouvert de 10h à 18h30
DESCRIPTION:Ouvert à la visite
URL:https://www.fort-la-pree.com/event/ouvert-de-10h-a-18h30-7/2025-09-04/
CATEGORIES:Ouvert
END:VEVENT
BEGIN:VEVENT
DTSTART;VALUE=DATE:20250905
DTEND;VALUE=DATE:20250906
DTSTAMP:20260421T182847
CREATED:20250412T102323Z
LAST-MODIFIED:20250427T150258Z
UID:10000785-1757030400-1757116799@www.fort-la-pree.com
SUMMARY:Fermé
DESCRIPTION:
URL:https://www.fort-la-pree.com/event/ferme-4/2025-09-05/
CATEGORIES:Fermeture
END:VEVENT
BEGIN:VEVENT
DTSTART;VALUE=DATE:20250906
DTEND;VALUE=DATE:20250907
DTSTAMP:20260421T182847
CREATED:20250412T102434Z
LAST-MODIFIED:20250427T150251Z
UID:10000803-1757116800-1757203199@www.fort-la-pree.com
SUMMARY:Fermé
DESCRIPTION:
URL:https://www.fort-la-pree.com/event/ferme-5/2025-09-06/
CATEGORIES:Fermeture
END:VEVENT
BEGIN:VEVENT
DTSTART;VALUE=DATE:20250907
DTEND;VALUE=DATE:20250908
DTSTAMP:20260421T182847
CREATED:20250412T102508Z
LAST-MODIFIED:20250427T150243Z
UID:10000821-1757203200-1757289599@www.fort-la-pree.com
SUMMARY:Fermé
DESCRIPTION:
URL:https://www.fort-la-pree.com/event/ferme-6/2025-09-07/
CATEGORIES:Fermeture
END:VEVENT
BEGIN:VEVENT
DTSTART;VALUE=DATE:20250908
DTEND;VALUE=DATE:20250909
DTSTAMP:20260421T182847
CREATED:20250412T103235Z
LAST-MODIFIED:20250427T150127Z
UID:10000845-1757289600-1757375999@www.fort-la-pree.com
SUMMARY:Ouvert de 14h30 à 18h30
DESCRIPTION:Ouvert à la visite
URL:https://www.fort-la-pree.com/event/ouvert-de-14h30-a-18h30-2/2025-09-08/
CATEGORIES:Ouvert
END:VEVENT
BEGIN:VEVENT
DTSTART;VALUE=DATE:20250909
DTEND;VALUE=DATE:20250910
DTSTAMP:20260421T182847
CREATED:20250412T104258Z
LAST-MODIFIED:20250918T161610Z
UID:10000858-1757376000-1757462399@www.fort-la-pree.com
SUMMARY:Ouvert de 10h à 18h30
DESCRIPTION:Ouvert à la visite
URL:https://www.fort-la-pree.com/event/ouvert-de-10h-a-18h30-5/2025-09-09/
CATEGORIES:Ouvert
END:VEVENT
BEGIN:VEVENT
DTSTART;VALUE=DATE:20250910
DTEND;VALUE=DATE:20250911
DTSTAMP:20260421T182847
CREATED:20250412T104328Z
LAST-MODIFIED:20250427T150107Z
UID:10000870-1757462400-1757548799@www.fort-la-pree.com
SUMMARY:Ouvert de 10h à 18h30
DESCRIPTION:Ouvert à la visite
URL:https://www.fort-la-pree.com/event/ouvert-de-10h-a-18h30-6/2025-09-10/
CATEGORIES:Ouvert
END:VEVENT
BEGIN:VEVENT
DTSTART;VALUE=DATE:20250911
DTEND;VALUE=DATE:20250912
DTSTAMP:20260421T182847
CREATED:20250412T104354Z
LAST-MODIFIED:20250918T155309Z
UID:10000881-1757548800-1757635199@www.fort-la-pree.com
SUMMARY:Ouvert de 10h à 18h30
DESCRIPTION:Ouvert à la visite
URL:https://www.fort-la-pree.com/event/ouvert-de-10h-a-18h30-7/2025-09-11/
CATEGORIES:Ouvert
END:VEVENT
BEGIN:VEVENT
DTSTART;VALUE=DATE:20250912
DTEND;VALUE=DATE:20250913
DTSTAMP:20260421T182847
CREATED:20250412T102323Z
LAST-MODIFIED:20250427T150258Z
UID:10000786-1757635200-1757721599@www.fort-la-pree.com
SUMMARY:Fermé
DESCRIPTION:
URL:https://www.fort-la-pree.com/event/ferme-4/2025-09-12/
CATEGORIES:Fermeture
END:VEVENT
BEGIN:VEVENT
DTSTART;VALUE=DATE:20250913
DTEND;VALUE=DATE:20250914
DTSTAMP:20260421T182847
CREATED:20250412T102434Z
LAST-MODIFIED:20250427T150251Z
UID:10000804-1757721600-1757807999@www.fort-la-pree.com
SUMMARY:Fermé
DESCRIPTION:
URL:https://www.fort-la-pree.com/event/ferme-5/2025-09-13/
CATEGORIES:Fermeture
END:VEVENT
BEGIN:VEVENT
DTSTART;VALUE=DATE:20250914
DTEND;VALUE=DATE:20250915
DTSTAMP:20260421T182847
CREATED:20250412T102508Z
LAST-MODIFIED:20250427T150243Z
UID:10000822-1757808000-1757894399@www.fort-la-pree.com
SUMMARY:Fermé
DESCRIPTION:
URL:https://www.fort-la-pree.com/event/ferme-6/2025-09-14/
CATEGORIES:Fermeture
END:VEVENT
BEGIN:VEVENT
DTSTART;VALUE=DATE:20250915
DTEND;VALUE=DATE:20250916
DTSTAMP:20260421T182847
CREATED:20250412T103235Z
LAST-MODIFIED:20250427T150127Z
UID:10000846-1757894400-1757980799@www.fort-la-pree.com
SUMMARY:Ouvert de 14h30 à 18h30
DESCRIPTION:Ouvert à la visite
URL:https://www.fort-la-pree.com/event/ouvert-de-14h30-a-18h30-2/2025-09-15/
CATEGORIES:Ouvert
END:VEVENT
BEGIN:VEVENT
DTSTART;VALUE=DATE:20250916
DTEND;VALUE=DATE:20250917
DTSTAMP:20260421T182847
CREATED:20250412T104258Z
LAST-MODIFIED:20250918T161610Z
UID:10000859-1757980800-1758067199@www.fort-la-pree.com
SUMMARY:Ouvert de 10h à 18h30
DESCRIPTION:Ouvert à la visite
URL:https://www.fort-la-pree.com/event/ouvert-de-10h-a-18h30-5/2025-09-16/
CATEGORIES:Ouvert
END:VEVENT
BEGIN:VEVENT
DTSTART;VALUE=DATE:20250917
DTEND;VALUE=DATE:20250918
DTSTAMP:20260421T182847
CREATED:20250412T104328Z
LAST-MODIFIED:20250427T150107Z
UID:10000871-1758067200-1758153599@www.fort-la-pree.com
SUMMARY:Ouvert de 10h à 18h30
DESCRIPTION:Ouvert à la visite
URL:https://www.fort-la-pree.com/event/ouvert-de-10h-a-18h30-6/2025-09-17/
CATEGORIES:Ouvert
END:VEVENT
BEGIN:VEVENT
DTSTART;VALUE=DATE:20250918
DTEND;VALUE=DATE:20250919
DTSTAMP:20260421T182847
CREATED:20250412T104354Z
LAST-MODIFIED:20250918T155309Z
UID:10000882-1758153600-1758239999@www.fort-la-pree.com
SUMMARY:Ouvert de 10h à 18h30
DESCRIPTION:Ouvert à la visite
URL:https://www.fort-la-pree.com/event/ouvert-de-10h-a-18h30-7/2025-09-18/
CATEGORIES:Ouvert
END:VEVENT
BEGIN:VEVENT
DTSTART;VALUE=DATE:20250919
DTEND;VALUE=DATE:20250920
DTSTAMP:20260421T182848
CREATED:20250412T102323Z
LAST-MODIFIED:20250427T150258Z
UID:10000787-1758240000-1758326399@www.fort-la-pree.com
SUMMARY:Fermé
DESCRIPTION:
URL:https://www.fort-la-pree.com/event/ferme-4/2025-09-19/
CATEGORIES:Fermeture
END:VEVENT
BEGIN:VEVENT
DTSTART;VALUE=DATE:20250920
DTEND;VALUE=DATE:20250921
DTSTAMP:20260421T182848
CREATED:20250412T102434Z
LAST-MODIFIED:20250427T150251Z
UID:10000805-1758326400-1758412799@www.fort-la-pree.com
SUMMARY:Fermé
DESCRIPTION:
URL:https://www.fort-la-pree.com/event/ferme-5/2025-09-20/
CATEGORIES:Fermeture
END:VEVENT
BEGIN:VEVENT
DTSTART;VALUE=DATE:20250921
DTEND;VALUE=DATE:20250922
DTSTAMP:20260421T182848
CREATED:20250412T102508Z
LAST-MODIFIED:20250427T150243Z
UID:10000823-1758412800-1758499199@www.fort-la-pree.com
SUMMARY:Fermé
DESCRIPTION:
URL:https://www.fort-la-pree.com/event/ferme-6/2025-09-21/
CATEGORIES:Fermeture
END:VEVENT
BEGIN:VEVENT
DTSTART;VALUE=DATE:20250922
DTEND;VALUE=DATE:20250923
DTSTAMP:20260421T182848
CREATED:20250412T103235Z
LAST-MODIFIED:20250427T150127Z
UID:10000847-1758499200-1758585599@www.fort-la-pree.com
SUMMARY:Ouvert de 14h30 à 18h30
DESCRIPTION:Ouvert à la visite
URL:https://www.fort-la-pree.com/event/ouvert-de-14h30-a-18h30-2/2025-09-22/
CATEGORIES:Ouvert
END:VEVENT
BEGIN:VEVENT
DTSTART;VALUE=DATE:20250923
DTEND;VALUE=DATE:20250924
DTSTAMP:20260421T182848
CREATED:20250918T155043Z
LAST-MODIFIED:20250918T155043Z
UID:10000922-1758585600-1758671999@www.fort-la-pree.com
SUMMARY:Fermé
DESCRIPTION:Fermeture exceptionnelle
URL:https://www.fort-la-pree.com/event/ferme-11/
CATEGORIES:Fermeture
END:VEVENT
BEGIN:VEVENT
DTSTART;VALUE=DATE:20250924
DTEND;VALUE=DATE:20250925
DTSTAMP:20260421T182848
CREATED:20250412T104328Z
LAST-MODIFIED:20250427T150107Z
UID:10000872-1758672000-1758758399@www.fort-la-pree.com
SUMMARY:Ouvert de 10h à 18h30
DESCRIPTION:Ouvert à la visite
URL:https://www.fort-la-pree.com/event/ouvert-de-10h-a-18h30-6/2025-09-24/
CATEGORIES:Ouvert
END:VEVENT
BEGIN:VEVENT
DTSTART;VALUE=DATE:20250925
DTEND;VALUE=DATE:20250926
DTSTAMP:20260421T182848
CREATED:20250412T104354Z
LAST-MODIFIED:20250918T155309Z
UID:10000883-1758758400-1758844799@www.fort-la-pree.com
SUMMARY:Ouvert de 10h à 18h30
DESCRIPTION:Ouvert à la visite
URL:https://www.fort-la-pree.com/event/ouvert-de-10h-a-18h30-7/2025-09-25/
CATEGORIES:Ouvert
END:VEVENT
BEGIN:VEVENT
DTSTART;VALUE=DATE:20250926
DTEND;VALUE=DATE:20250927
DTSTAMP:20260421T182848
CREATED:20250412T102323Z
LAST-MODIFIED:20250427T150258Z
UID:10000788-1758844800-1758931199@www.fort-la-pree.com
SUMMARY:Fermé
DESCRIPTION:
URL:https://www.fort-la-pree.com/event/ferme-4/2025-09-26/
CATEGORIES:Fermeture
END:VEVENT
BEGIN:VEVENT
DTSTART;VALUE=DATE:20250927
DTEND;VALUE=DATE:20250928
DTSTAMP:20260421T182848
CREATED:20250412T102434Z
LAST-MODIFIED:20250427T150251Z
UID:10000806-1758931200-1759017599@www.fort-la-pree.com
SUMMARY:Fermé
DESCRIPTION:
URL:https://www.fort-la-pree.com/event/ferme-5/2025-09-27/
CATEGORIES:Fermeture
END:VEVENT
BEGIN:VEVENT
DTSTART;VALUE=DATE:20250928
DTEND;VALUE=DATE:20250929
DTSTAMP:20260421T182848
CREATED:20250412T102508Z
LAST-MODIFIED:20250427T150243Z
UID:10000824-1759017600-1759103999@www.fort-la-pree.com
SUMMARY:Fermé
DESCRIPTION:
URL:https://www.fort-la-pree.com/event/ferme-6/2025-09-28/
CATEGORIES:Fermeture
END:VEVENT
BEGIN:VEVENT
DTSTART;VALUE=DATE:20250929
DTEND;VALUE=DATE:20250930
DTSTAMP:20260421T182848
CREATED:20250412T103235Z
LAST-MODIFIED:20250427T150127Z
UID:10000848-1759104000-1759190399@www.fort-la-pree.com
SUMMARY:Ouvert de 14h30 à 18h30
DESCRIPTION:Ouvert à la visite
URL:https://www.fort-la-pree.com/event/ouvert-de-14h30-a-18h30-2/2025-09-29/
CATEGORIES:Ouvert
END:VEVENT
BEGIN:VEVENT
DTSTART;VALUE=DATE:20250930
DTEND;VALUE=DATE:20251001
DTSTAMP:20260421T182848
CREATED:20250412T104258Z
LAST-MODIFIED:20250918T161610Z
UID:10000861-1759190400-1759276799@www.fort-la-pree.com
SUMMARY:Ouvert de 10h à 18h30
DESCRIPTION:Ouvert à la visite
URL:https://www.fort-la-pree.com/event/ouvert-de-10h-a-18h30-5/2025-09-30/
CATEGORIES:Ouvert
END:VEVENT
END:VCALENDAR