BEGIN:VCALENDAR
VERSION:2.0
PRODID:-//fort-la-pree - ECPv6.10.0//NONSGML v1.0//EN
CALSCALE:GREGORIAN
METHOD:PUBLISH
X-ORIGINAL-URL:https://www.fort-la-pree.com
X-WR-CALDESC:Évènements pour fort-la-pree
REFRESH-INTERVAL;VALUE=DURATION:PT1H
X-Robots-Tag:noindex
X-PUBLISHED-TTL:PT1H
BEGIN:VTIMEZONE
TZID:Europe/Paris
BEGIN:DAYLIGHT
TZOFFSETFROM:+0100
TZOFFSETTO:+0200
TZNAME:CEST
DTSTART:20250330T010000
END:DAYLIGHT
BEGIN:STANDARD
TZOFFSETFROM:+0200
TZOFFSETTO:+0100
TZNAME:CET
DTSTART:20251026T010000
END:STANDARD
END:VTIMEZONE
BEGIN:VEVENT
DTSTART;VALUE=DATE:20250701
DTEND;VALUE=DATE:20250702
DTSTAMP:20260421T232433
CREATED:20250410T130033Z
LAST-MODIFIED:20250427T150555Z
UID:10000490-1751328000-1751414399@www.fort-la-pree.com
SUMMARY:Ouvert de 10h à 19h
DESCRIPTION:Ouvert à la visite
URL:https://www.fort-la-pree.com/event/ouvert-de-10h-a-19h/2025-07-01/
CATEGORIES:Ouvert
END:VEVENT
BEGIN:VEVENT
DTSTART;VALUE=DATE:20250702
DTEND;VALUE=DATE:20250703
DTSTAMP:20260421T232433
CREATED:20250410T131950Z
LAST-MODIFIED:20250427T150546Z
UID:10000747-1751414400-1751500799@www.fort-la-pree.com
SUMMARY:Ouvert de 10h à 19h
DESCRIPTION:Ouvert à la visite
URL:https://www.fort-la-pree.com/event/ouvert-de-10h-a-19h-2/2025-07-02/
CATEGORIES:Ouvert
END:VEVENT
BEGIN:VEVENT
DTSTART;VALUE=DATE:20250703
DTEND;VALUE=DATE:20250704
DTSTAMP:20260421T232433
CREATED:20250410T132413Z
LAST-MODIFIED:20250427T150538Z
UID:10000754-1751500800-1751587199@www.fort-la-pree.com
SUMMARY:Ouvert de 10h à 19h
DESCRIPTION:Ouvert à la visite
URL:https://www.fort-la-pree.com/event/ouvert-de-10h-a-19h-3/2025-07-03/
CATEGORIES:Ouvert
END:VEVENT
BEGIN:VEVENT
DTSTART;VALUE=DATE:20250704
DTEND;VALUE=DATE:20250705
DTSTAMP:20260421T232433
CREATED:20250410T121153Z
LAST-MODIFIED:20250427T150753Z
UID:10000337-1751587200-1751673599@www.fort-la-pree.com
SUMMARY:Fermé
DESCRIPTION:
URL:https://www.fort-la-pree.com/event/ferme-2/2025-07-04/
CATEGORIES:Fermeture
END:VEVENT
BEGIN:VEVENT
DTSTART;VALUE=DATE:20250705
DTEND;VALUE=DATE:20250706
DTSTAMP:20260421T232433
CREATED:20250410T122316Z
LAST-MODIFIED:20250427T150739Z
UID:10000362-1751673600-1751759999@www.fort-la-pree.com
SUMMARY:Fermé
DESCRIPTION:
URL:https://www.fort-la-pree.com/event/ferme/2025-07-05/
CATEGORIES:Fermeture
END:VEVENT
BEGIN:VEVENT
DTSTART;VALUE=DATE:20250706
DTEND;VALUE=DATE:20250707
DTSTAMP:20260421T232433
CREATED:20250410T122407Z
LAST-MODIFIED:20250427T150732Z
UID:10000386-1751760000-1751846399@www.fort-la-pree.com
SUMMARY:Fermé
DESCRIPTION:
URL:https://www.fort-la-pree.com/event/ferme-3/2025-07-06/
CATEGORIES:Fermeture
END:VEVENT
BEGIN:VEVENT
DTSTART;VALUE=DATE:20250707
DTEND;VALUE=DATE:20250708
DTSTAMP:20260421T232433
CREATED:20250408T155331Z
LAST-MODIFIED:20250427T150529Z
UID:10000317-1751846400-1751932799@www.fort-la-pree.com
SUMMARY:Ouvert de 14h30 à 19h
DESCRIPTION:
URL:https://www.fort-la-pree.com/event/ouvert-de-14h30-a-19h/2025-07-07/
CATEGORIES:Ouvert
END:VEVENT
BEGIN:VEVENT
DTSTART;VALUE=DATE:20250708
DTEND;VALUE=DATE:20250709
DTSTAMP:20260421T232433
CREATED:20250410T130033Z
LAST-MODIFIED:20250427T150555Z
UID:10000491-1751932800-1752019199@www.fort-la-pree.com
SUMMARY:Ouvert de 10h à 19h
DESCRIPTION:Ouvert à la visite
URL:https://www.fort-la-pree.com/event/ouvert-de-10h-a-19h/2025-07-08/
CATEGORIES:Ouvert
END:VEVENT
BEGIN:VEVENT
DTSTART;VALUE=DATE:20250708
DTEND;VALUE=DATE:20250709
DTSTAMP:20260421T232433
CREATED:20250412T110012Z
LAST-MODIFIED:20250427T151100Z
UID:10000899-1751932800-1752019199@www.fort-la-pree.com
SUMMARY:Chasse au trésor
DESCRIPTION:Chasse au trésor à réaliser en famille pour les enfants à partir de 6 ans. \nUniquement sur réservation au plus tard à 12h le jour J : 05 46 09 73 33 \nDébut de l’activité à 14h.
URL:https://www.fort-la-pree.com/event/chasse-au-tresor-des-14h/2025-07-08/
LOCATION:Fort la Prée\, Route de Rivedoux\, LA FLOTTE\, 17630\, France
CATEGORIES:Chasse au trésor
END:VEVENT
BEGIN:VEVENT
DTSTART;VALUE=DATE:20250709
DTEND;VALUE=DATE:20250710
DTSTAMP:20260421T232433
CREATED:20250410T131950Z
LAST-MODIFIED:20250427T150546Z
UID:10000748-1752019200-1752105599@www.fort-la-pree.com
SUMMARY:Ouvert de 10h à 19h
DESCRIPTION:Ouvert à la visite
URL:https://www.fort-la-pree.com/event/ouvert-de-10h-a-19h-2/2025-07-09/
CATEGORIES:Ouvert
END:VEVENT
BEGIN:VEVENT
DTSTART;VALUE=DATE:20250710
DTEND;VALUE=DATE:20250711
DTSTAMP:20260421T232433
CREATED:20250410T132413Z
LAST-MODIFIED:20250427T150538Z
UID:10000755-1752105600-1752191999@www.fort-la-pree.com
SUMMARY:Ouvert de 10h à 19h
DESCRIPTION:Ouvert à la visite
URL:https://www.fort-la-pree.com/event/ouvert-de-10h-a-19h-3/2025-07-10/
CATEGORIES:Ouvert
END:VEVENT
BEGIN:VEVENT
DTSTART;VALUE=DATE:20250710
DTEND;VALUE=DATE:20250711
DTSTAMP:20260421T232433
CREATED:20250412T110248Z
LAST-MODIFIED:20250728T130929Z
UID:10000914-1752105600-1752191999@www.fort-la-pree.com
SUMMARY:Chasse au trésor
DESCRIPTION:Chasse au trésor à réaliser en famille pour les enfants à partir de 6 ans. \nUniquement sur réservation au plus tard à 12h le jour J : 05 46 09 73 33 \nDébut de l’activité à 14h15.
URL:https://www.fort-la-pree.com/event/chasse-au-tresor/2025-07-10/
LOCATION:Fort la Prée\, Route de Rivedoux\, LA FLOTTE\, 17630\, France
CATEGORIES:Chasse au trésor
END:VEVENT
BEGIN:VEVENT
DTSTART;VALUE=DATE:20250711
DTEND;VALUE=DATE:20250712
DTSTAMP:20260421T232433
CREATED:20250410T121153Z
LAST-MODIFIED:20250427T150753Z
UID:10000338-1752192000-1752278399@www.fort-la-pree.com
SUMMARY:Fermé
DESCRIPTION:
URL:https://www.fort-la-pree.com/event/ferme-2/2025-07-11/
CATEGORIES:Fermeture
END:VEVENT
BEGIN:VEVENT
DTSTART;VALUE=DATE:20250712
DTEND;VALUE=DATE:20250713
DTSTAMP:20260421T232433
CREATED:20250410T122316Z
LAST-MODIFIED:20250427T150739Z
UID:10000363-1752278400-1752364799@www.fort-la-pree.com
SUMMARY:Fermé
DESCRIPTION:
URL:https://www.fort-la-pree.com/event/ferme/2025-07-12/
CATEGORIES:Fermeture
END:VEVENT
BEGIN:VEVENT
DTSTART;VALUE=DATE:20250713
DTEND;VALUE=DATE:20250714
DTSTAMP:20260421T232433
CREATED:20250410T122407Z
LAST-MODIFIED:20250427T150732Z
UID:10000387-1752364800-1752451199@www.fort-la-pree.com
SUMMARY:Fermé
DESCRIPTION:
URL:https://www.fort-la-pree.com/event/ferme-3/2025-07-13/
CATEGORIES:Fermeture
END:VEVENT
BEGIN:VEVENT
DTSTART;VALUE=DATE:20250714
DTEND;VALUE=DATE:20250715
DTSTAMP:20260421T232433
CREATED:20250408T155331Z
LAST-MODIFIED:20250427T150529Z
UID:10000318-1752451200-1752537599@www.fort-la-pree.com
SUMMARY:Ouvert de 14h30 à 19h
DESCRIPTION:
URL:https://www.fort-la-pree.com/event/ouvert-de-14h30-a-19h/2025-07-14/
CATEGORIES:Ouvert
END:VEVENT
BEGIN:VEVENT
DTSTART;VALUE=DATE:20250715
DTEND;VALUE=DATE:20250716
DTSTAMP:20260421T232433
CREATED:20250410T130033Z
LAST-MODIFIED:20250427T150555Z
UID:10000492-1752537600-1752623999@www.fort-la-pree.com
SUMMARY:Ouvert de 10h à 19h
DESCRIPTION:Ouvert à la visite
URL:https://www.fort-la-pree.com/event/ouvert-de-10h-a-19h/2025-07-15/
CATEGORIES:Ouvert
END:VEVENT
BEGIN:VEVENT
DTSTART;VALUE=DATE:20250715
DTEND;VALUE=DATE:20250716
DTSTAMP:20260421T232433
CREATED:20250412T110012Z
LAST-MODIFIED:20250427T151100Z
UID:10000900-1752537600-1752623999@www.fort-la-pree.com
SUMMARY:Chasse au trésor
DESCRIPTION:Chasse au trésor à réaliser en famille pour les enfants à partir de 6 ans. \nUniquement sur réservation au plus tard à 12h le jour J : 05 46 09 73 33 \nDébut de l’activité à 14h.
URL:https://www.fort-la-pree.com/event/chasse-au-tresor-des-14h/2025-07-15/
LOCATION:Fort la Prée\, Route de Rivedoux\, LA FLOTTE\, 17630\, France
CATEGORIES:Chasse au trésor
END:VEVENT
BEGIN:VEVENT
DTSTART;VALUE=DATE:20250716
DTEND;VALUE=DATE:20250717
DTSTAMP:20260421T232433
CREATED:20250410T132843Z
LAST-MODIFIED:20250427T150456Z
UID:10000759-1752624000-1752710399@www.fort-la-pree.com
SUMMARY:Soirée La Prée 80'
DESCRIPTION:De 19h00 à 01h00 soirée anneés 80 au Fort la Prée ! \nKaraoké suivi d’un DJ set \nEntrée gratuite. \nBuvette et restauration sur place \nLa Prée 80 juillet
URL:https://www.fort-la-pree.com/event/la-pree-80/
CATEGORIES:Evènements
END:VEVENT
BEGIN:VEVENT
DTSTART;VALUE=DATE:20250716
DTEND;VALUE=DATE:20250717
DTSTAMP:20260421T232433
CREATED:20250410T132531Z
LAST-MODIFIED:20250427T150503Z
UID:10000758-1752624000-1752710399@www.fort-la-pree.com
SUMMARY:Ouvert de 10h à 17h
DESCRIPTION:Ouvert à la visite
URL:https://www.fort-la-pree.com/event/ouvert-de-10h-a-17h/
CATEGORIES:Ouvert
END:VEVENT
BEGIN:VEVENT
DTSTART;VALUE=DATE:20250717
DTEND;VALUE=DATE:20250718
DTSTAMP:20260421T232433
CREATED:20250410T132413Z
LAST-MODIFIED:20250427T150538Z
UID:10000756-1752710400-1752796799@www.fort-la-pree.com
SUMMARY:Ouvert de 10h à 19h
DESCRIPTION:Ouvert à la visite
URL:https://www.fort-la-pree.com/event/ouvert-de-10h-a-19h-3/2025-07-17/
CATEGORIES:Ouvert
END:VEVENT
BEGIN:VEVENT
DTSTART;VALUE=DATE:20250717
DTEND;VALUE=DATE:20250718
DTSTAMP:20260421T232433
CREATED:20250412T110248Z
LAST-MODIFIED:20250728T130929Z
UID:10000915-1752710400-1752796799@www.fort-la-pree.com
SUMMARY:Chasse au trésor
DESCRIPTION:Chasse au trésor à réaliser en famille pour les enfants à partir de 6 ans. \nUniquement sur réservation au plus tard à 12h le jour J : 05 46 09 73 33 \nDébut de l’activité à 14h15.
URL:https://www.fort-la-pree.com/event/chasse-au-tresor/2025-07-17/
LOCATION:Fort la Prée\, Route de Rivedoux\, LA FLOTTE\, 17630\, France
CATEGORIES:Chasse au trésor
END:VEVENT
BEGIN:VEVENT
DTSTART;VALUE=DATE:20250718
DTEND;VALUE=DATE:20250719
DTSTAMP:20260421T232433
CREATED:20250410T121153Z
LAST-MODIFIED:20250427T150753Z
UID:10000339-1752796800-1752883199@www.fort-la-pree.com
SUMMARY:Fermé
DESCRIPTION:
URL:https://www.fort-la-pree.com/event/ferme-2/2025-07-18/
CATEGORIES:Fermeture
END:VEVENT
BEGIN:VEVENT
DTSTART;VALUE=DATE:20250719
DTEND;VALUE=DATE:20250720
DTSTAMP:20260421T232433
CREATED:20250410T122316Z
LAST-MODIFIED:20250427T150739Z
UID:10000364-1752883200-1752969599@www.fort-la-pree.com
SUMMARY:Fermé
DESCRIPTION:
URL:https://www.fort-la-pree.com/event/ferme/2025-07-19/
CATEGORIES:Fermeture
END:VEVENT
BEGIN:VEVENT
DTSTART;VALUE=DATE:20250720
DTEND;VALUE=DATE:20250721
DTSTAMP:20260421T232433
CREATED:20250410T122407Z
LAST-MODIFIED:20250427T150732Z
UID:10000388-1752969600-1753055999@www.fort-la-pree.com
SUMMARY:Fermé
DESCRIPTION:
URL:https://www.fort-la-pree.com/event/ferme-3/2025-07-20/
CATEGORIES:Fermeture
END:VEVENT
BEGIN:VEVENT
DTSTART;VALUE=DATE:20250721
DTEND;VALUE=DATE:20250722
DTSTAMP:20260421T232433
CREATED:20250408T155331Z
LAST-MODIFIED:20250427T150529Z
UID:10000319-1753056000-1753142399@www.fort-la-pree.com
SUMMARY:Ouvert de 14h30 à 19h
DESCRIPTION:
URL:https://www.fort-la-pree.com/event/ouvert-de-14h30-a-19h/2025-07-21/
CATEGORIES:Ouvert
END:VEVENT
BEGIN:VEVENT
DTSTART;VALUE=DATE:20250722
DTEND;VALUE=DATE:20250723
DTSTAMP:20260421T232433
CREATED:20250410T130033Z
LAST-MODIFIED:20250427T150555Z
UID:10000493-1753142400-1753228799@www.fort-la-pree.com
SUMMARY:Ouvert de 10h à 19h
DESCRIPTION:Ouvert à la visite
URL:https://www.fort-la-pree.com/event/ouvert-de-10h-a-19h/2025-07-22/
CATEGORIES:Ouvert
END:VEVENT
BEGIN:VEVENT
DTSTART;VALUE=DATE:20250722
DTEND;VALUE=DATE:20250723
DTSTAMP:20260421T232433
CREATED:20250412T110012Z
LAST-MODIFIED:20250427T151100Z
UID:10000901-1753142400-1753228799@www.fort-la-pree.com
SUMMARY:Chasse au trésor
DESCRIPTION:Chasse au trésor à réaliser en famille pour les enfants à partir de 6 ans. \nUniquement sur réservation au plus tard à 12h le jour J : 05 46 09 73 33 \nDébut de l’activité à 14h.
URL:https://www.fort-la-pree.com/event/chasse-au-tresor-des-14h/2025-07-22/
LOCATION:Fort la Prée\, Route de Rivedoux\, LA FLOTTE\, 17630\, France
CATEGORIES:Chasse au trésor
END:VEVENT
BEGIN:VEVENT
DTSTART;VALUE=DATE:20250723
DTEND;VALUE=DATE:20250724
DTSTAMP:20260421T232433
CREATED:20250410T131950Z
LAST-MODIFIED:20250427T150546Z
UID:10000750-1753228800-1753315199@www.fort-la-pree.com
SUMMARY:Ouvert de 10h à 19h
DESCRIPTION:Ouvert à la visite
URL:https://www.fort-la-pree.com/event/ouvert-de-10h-a-19h-2/2025-07-23/
CATEGORIES:Ouvert
END:VEVENT
BEGIN:VEVENT
DTSTART;VALUE=DATE:20250724
DTEND;VALUE=DATE:20250725
DTSTAMP:20260421T232433
CREATED:20250410T132413Z
LAST-MODIFIED:20250427T150538Z
UID:10000757-1753315200-1753401599@www.fort-la-pree.com
SUMMARY:Ouvert de 10h à 19h
DESCRIPTION:Ouvert à la visite
URL:https://www.fort-la-pree.com/event/ouvert-de-10h-a-19h-3/2025-07-24/
CATEGORIES:Ouvert
END:VEVENT
END:VCALENDAR