BEGIN:VCALENDAR
VERSION:2.0
PRODID:-//fort-la-pree - ECPv6.10.0//NONSGML v1.0//EN
CALSCALE:GREGORIAN
METHOD:PUBLISH
X-WR-CALNAME:fort-la-pree
X-ORIGINAL-URL:https://www.fort-la-pree.com
X-WR-CALDESC:Évènements pour fort-la-pree
REFRESH-INTERVAL;VALUE=DURATION:PT1H
X-Robots-Tag:noindex
X-PUBLISHED-TTL:PT1H
BEGIN:VTIMEZONE
TZID:Europe/Paris
BEGIN:DAYLIGHT
TZOFFSETFROM:+0100
TZOFFSETTO:+0200
TZNAME:CEST
DTSTART:20250330T010000
END:DAYLIGHT
BEGIN:STANDARD
TZOFFSETFROM:+0200
TZOFFSETTO:+0100
TZNAME:CET
DTSTART:20251026T010000
END:STANDARD
END:VTIMEZONE
BEGIN:VEVENT
DTSTART;VALUE=DATE:20250601
DTEND;VALUE=DATE:20250602
DTSTAMP:20260422T011936
CREATED:20250410T122407Z
LAST-MODIFIED:20250427T150732Z
UID:10000381-1748736000-1748822399@www.fort-la-pree.com
SUMMARY:Fermé
DESCRIPTION:
URL:https://www.fort-la-pree.com/event/ferme-3/2025-06-01/
CATEGORIES:Fermeture
END:VEVENT
BEGIN:VEVENT
DTSTART;VALUE=DATE:20250602
DTEND;VALUE=DATE:20250603
DTSTAMP:20260422T011936
CREATED:20250408T143029Z
LAST-MODIFIED:20250427T150726Z
UID:10000324-1748822400-1748908799@www.fort-la-pree.com
SUMMARY:Ouvert de 14h30 à 18h30
DESCRIPTION:
URL:https://www.fort-la-pree.com/event/ouvert-de-14h30-a-18h30/2025-06-02/
CATEGORIES:Ouvert
END:VEVENT
BEGIN:VEVENT
DTSTART;VALUE=DATE:20250603
DTEND;VALUE=DATE:20250604
DTSTAMP:20260422T011936
CREATED:20250410T124244Z
LAST-MODIFIED:20250427T150624Z
UID:10000450-1748908800-1748995199@www.fort-la-pree.com
SUMMARY:Ouvert de 10h à 18h30
DESCRIPTION:Ouvert à la visite
URL:https://www.fort-la-pree.com/event/ouvert-de-10h-a-18h30-2/2025-06-03/
CATEGORIES:Ouvert
END:VEVENT
BEGIN:VEVENT
DTSTART;VALUE=DATE:20250604
DTEND;VALUE=DATE:20250605
DTSTAMP:20260422T011936
CREATED:20250410T125512Z
LAST-MODIFIED:20250427T150615Z
UID:10000472-1748995200-1749081599@www.fort-la-pree.com
SUMMARY:Ouvert de 10h à 18h30
DESCRIPTION:Ouvert à la visite
URL:https://www.fort-la-pree.com/event/ouvert-de-10h-a-18h30-3/2025-06-04/
CATEGORIES:Ouvert
END:VEVENT
BEGIN:VEVENT
DTSTART;VALUE=DATE:20250605
DTEND;VALUE=DATE:20250606
DTSTAMP:20260422T011936
CREATED:20250410T125710Z
LAST-MODIFIED:20250427T150608Z
UID:10000486-1749081600-1749167999@www.fort-la-pree.com
SUMMARY:Ouvert de 10h à 18h30
DESCRIPTION:Ouvert à la visite
URL:https://www.fort-la-pree.com/event/ouvert-de-10h-a-18h30-4/2025-06-05/
CATEGORIES:Ouvert
END:VEVENT
BEGIN:VEVENT
DTSTART;VALUE=DATE:20250606
DTEND;VALUE=DATE:20250607
DTSTAMP:20260422T011936
CREATED:20250410T121153Z
LAST-MODIFIED:20250427T150753Z
UID:10000333-1749168000-1749254399@www.fort-la-pree.com
SUMMARY:Fermé
DESCRIPTION:
URL:https://www.fort-la-pree.com/event/ferme-2/2025-06-06/
CATEGORIES:Fermeture
END:VEVENT
BEGIN:VEVENT
DTSTART;VALUE=DATE:20250607
DTEND;VALUE=DATE:20250608
DTSTAMP:20260422T011936
CREATED:20250410T122316Z
LAST-MODIFIED:20250427T150739Z
UID:10000358-1749254400-1749340799@www.fort-la-pree.com
SUMMARY:Fermé
DESCRIPTION:
URL:https://www.fort-la-pree.com/event/ferme/2025-06-07/
CATEGORIES:Fermeture
END:VEVENT
BEGIN:VEVENT
DTSTART;VALUE=DATE:20250608
DTEND;VALUE=DATE:20250609
DTSTAMP:20260422T011936
CREATED:20250410T122407Z
LAST-MODIFIED:20250427T150732Z
UID:10000382-1749340800-1749427199@www.fort-la-pree.com
SUMMARY:Fermé
DESCRIPTION:
URL:https://www.fort-la-pree.com/event/ferme-3/2025-06-08/
CATEGORIES:Fermeture
END:VEVENT
BEGIN:VEVENT
DTSTART;VALUE=DATE:20250609
DTEND;VALUE=DATE:20250610
DTSTAMP:20260422T011936
CREATED:20250408T143029Z
LAST-MODIFIED:20250427T150726Z
UID:10000325-1749427200-1749513599@www.fort-la-pree.com
SUMMARY:Ouvert de 14h30 à 18h30
DESCRIPTION:
URL:https://www.fort-la-pree.com/event/ouvert-de-14h30-a-18h30/2025-06-09/
CATEGORIES:Ouvert
END:VEVENT
BEGIN:VEVENT
DTSTART;VALUE=DATE:20250610
DTEND;VALUE=DATE:20250611
DTSTAMP:20260422T011936
CREATED:20250410T124244Z
LAST-MODIFIED:20250427T150624Z
UID:10000451-1749513600-1749599999@www.fort-la-pree.com
SUMMARY:Ouvert de 10h à 18h30
DESCRIPTION:Ouvert à la visite
URL:https://www.fort-la-pree.com/event/ouvert-de-10h-a-18h30-2/2025-06-10/
CATEGORIES:Ouvert
END:VEVENT
BEGIN:VEVENT
DTSTART;VALUE=DATE:20250611
DTEND;VALUE=DATE:20250612
DTSTAMP:20260422T011936
CREATED:20250410T125512Z
LAST-MODIFIED:20250427T150615Z
UID:10000473-1749600000-1749686399@www.fort-la-pree.com
SUMMARY:Ouvert de 10h à 18h30
DESCRIPTION:Ouvert à la visite
URL:https://www.fort-la-pree.com/event/ouvert-de-10h-a-18h30-3/2025-06-11/
CATEGORIES:Ouvert
END:VEVENT
BEGIN:VEVENT
DTSTART;VALUE=DATE:20250612
DTEND;VALUE=DATE:20250613
DTSTAMP:20260422T011936
CREATED:20250410T125710Z
LAST-MODIFIED:20250427T150608Z
UID:10000487-1749686400-1749772799@www.fort-la-pree.com
SUMMARY:Ouvert de 10h à 18h30
DESCRIPTION:Ouvert à la visite
URL:https://www.fort-la-pree.com/event/ouvert-de-10h-a-18h30-4/2025-06-12/
CATEGORIES:Ouvert
END:VEVENT
BEGIN:VEVENT
DTSTART;VALUE=DATE:20250613
DTEND;VALUE=DATE:20250614
DTSTAMP:20260422T011936
CREATED:20250410T121153Z
LAST-MODIFIED:20250427T150753Z
UID:10000334-1749772800-1749859199@www.fort-la-pree.com
SUMMARY:Fermé
DESCRIPTION:
URL:https://www.fort-la-pree.com/event/ferme-2/2025-06-13/
CATEGORIES:Fermeture
END:VEVENT
BEGIN:VEVENT
DTSTART;VALUE=DATE:20250614
DTEND;VALUE=DATE:20250615
DTSTAMP:20260422T011936
CREATED:20250410T122316Z
LAST-MODIFIED:20250427T150739Z
UID:10000359-1749859200-1749945599@www.fort-la-pree.com
SUMMARY:Fermé
DESCRIPTION:
URL:https://www.fort-la-pree.com/event/ferme/2025-06-14/
CATEGORIES:Fermeture
END:VEVENT
BEGIN:VEVENT
DTSTART;VALUE=DATE:20250615
DTEND;VALUE=DATE:20250616
DTSTAMP:20260422T011936
CREATED:20250410T122407Z
LAST-MODIFIED:20250427T150732Z
UID:10000383-1749945600-1750031999@www.fort-la-pree.com
SUMMARY:Fermé
DESCRIPTION:
URL:https://www.fort-la-pree.com/event/ferme-3/2025-06-15/
CATEGORIES:Fermeture
END:VEVENT
BEGIN:VEVENT
DTSTART;VALUE=DATE:20250616
DTEND;VALUE=DATE:20250617
DTSTAMP:20260422T011936
CREATED:20250408T143029Z
LAST-MODIFIED:20250427T150726Z
UID:10000326-1750032000-1750118399@www.fort-la-pree.com
SUMMARY:Ouvert de 14h30 à 18h30
DESCRIPTION:
URL:https://www.fort-la-pree.com/event/ouvert-de-14h30-a-18h30/2025-06-16/
CATEGORIES:Ouvert
END:VEVENT
BEGIN:VEVENT
DTSTART;VALUE=DATE:20250617
DTEND;VALUE=DATE:20250618
DTSTAMP:20260422T011936
CREATED:20250410T124244Z
LAST-MODIFIED:20250427T150624Z
UID:10000452-1750118400-1750204799@www.fort-la-pree.com
SUMMARY:Ouvert de 10h à 18h30
DESCRIPTION:Ouvert à la visite
URL:https://www.fort-la-pree.com/event/ouvert-de-10h-a-18h30-2/2025-06-17/
CATEGORIES:Ouvert
END:VEVENT
BEGIN:VEVENT
DTSTART;VALUE=DATE:20250618
DTEND;VALUE=DATE:20250619
DTSTAMP:20260422T011936
CREATED:20250410T125512Z
LAST-MODIFIED:20250427T150615Z
UID:10000474-1750204800-1750291199@www.fort-la-pree.com
SUMMARY:Ouvert de 10h à 18h30
DESCRIPTION:Ouvert à la visite
URL:https://www.fort-la-pree.com/event/ouvert-de-10h-a-18h30-3/2025-06-18/
CATEGORIES:Ouvert
END:VEVENT
BEGIN:VEVENT
DTSTART;VALUE=DATE:20250619
DTEND;VALUE=DATE:20250620
DTSTAMP:20260422T011936
CREATED:20250410T125710Z
LAST-MODIFIED:20250427T150608Z
UID:10000488-1750291200-1750377599@www.fort-la-pree.com
SUMMARY:Ouvert de 10h à 18h30
DESCRIPTION:Ouvert à la visite
URL:https://www.fort-la-pree.com/event/ouvert-de-10h-a-18h30-4/2025-06-19/
CATEGORIES:Ouvert
END:VEVENT
BEGIN:VEVENT
DTSTART;VALUE=DATE:20250620
DTEND;VALUE=DATE:20250621
DTSTAMP:20260422T011936
CREATED:20250410T121153Z
LAST-MODIFIED:20250427T150753Z
UID:10000335-1750377600-1750463999@www.fort-la-pree.com
SUMMARY:Fermé
DESCRIPTION:
URL:https://www.fort-la-pree.com/event/ferme-2/2025-06-20/
CATEGORIES:Fermeture
END:VEVENT
BEGIN:VEVENT
DTSTART;TZID=Europe/Paris:20250620T183000
DTEND;TZID=Europe/Paris:20250620T183000
DTSTAMP:20260422T011936
CREATED:20250408T123512Z
LAST-MODIFIED:20250427T150602Z
UID:10000005-1750444200-1750444200@www.fort-la-pree.com
SUMMARY:Fête de la musique
DESCRIPTION:Fête de la musique à partir de 18h30 \nEntrée gratuite ! \nBuvette et restauration sur place \nFête de la musique
URL:https://www.fort-la-pree.com/event/fete-de-la-musique/
LOCATION:Fort la Prée\, Route de Rivedoux\, LA FLOTTE\, 17630\, France
CATEGORIES:Evènements
END:VEVENT
BEGIN:VEVENT
DTSTART;VALUE=DATE:20250621
DTEND;VALUE=DATE:20250622
DTSTAMP:20260422T011936
CREATED:20250410T122316Z
LAST-MODIFIED:20250427T150739Z
UID:10000360-1750464000-1750550399@www.fort-la-pree.com
SUMMARY:Fermé
DESCRIPTION:
URL:https://www.fort-la-pree.com/event/ferme/2025-06-21/
CATEGORIES:Fermeture
END:VEVENT
BEGIN:VEVENT
DTSTART;VALUE=DATE:20250622
DTEND;VALUE=DATE:20250623
DTSTAMP:20260422T011936
CREATED:20250410T122407Z
LAST-MODIFIED:20250427T150732Z
UID:10000384-1750550400-1750636799@www.fort-la-pree.com
SUMMARY:Fermé
DESCRIPTION:
URL:https://www.fort-la-pree.com/event/ferme-3/2025-06-22/
CATEGORIES:Fermeture
END:VEVENT
BEGIN:VEVENT
DTSTART;VALUE=DATE:20250623
DTEND;VALUE=DATE:20250624
DTSTAMP:20260422T011937
CREATED:20250408T143029Z
LAST-MODIFIED:20250427T150726Z
UID:10000327-1750636800-1750723199@www.fort-la-pree.com
SUMMARY:Ouvert de 14h30 à 18h30
DESCRIPTION:
URL:https://www.fort-la-pree.com/event/ouvert-de-14h30-a-18h30/2025-06-23/
CATEGORIES:Ouvert
END:VEVENT
BEGIN:VEVENT
DTSTART;VALUE=DATE:20250624
DTEND;VALUE=DATE:20250625
DTSTAMP:20260422T011937
CREATED:20250410T124244Z
LAST-MODIFIED:20250427T150624Z
UID:10000453-1750723200-1750809599@www.fort-la-pree.com
SUMMARY:Ouvert de 10h à 18h30
DESCRIPTION:Ouvert à la visite
URL:https://www.fort-la-pree.com/event/ouvert-de-10h-a-18h30-2/2025-06-24/
CATEGORIES:Ouvert
END:VEVENT
BEGIN:VEVENT
DTSTART;VALUE=DATE:20250625
DTEND;VALUE=DATE:20250626
DTSTAMP:20260422T011937
CREATED:20250410T125512Z
LAST-MODIFIED:20250427T150615Z
UID:10000475-1750809600-1750895999@www.fort-la-pree.com
SUMMARY:Ouvert de 10h à 18h30
DESCRIPTION:Ouvert à la visite
URL:https://www.fort-la-pree.com/event/ouvert-de-10h-a-18h30-3/2025-06-25/
CATEGORIES:Ouvert
END:VEVENT
BEGIN:VEVENT
DTSTART;VALUE=DATE:20250626
DTEND;VALUE=DATE:20250627
DTSTAMP:20260422T011937
CREATED:20250410T125710Z
LAST-MODIFIED:20250427T150608Z
UID:10000489-1750896000-1750982399@www.fort-la-pree.com
SUMMARY:Ouvert de 10h à 18h30
DESCRIPTION:Ouvert à la visite
URL:https://www.fort-la-pree.com/event/ouvert-de-10h-a-18h30-4/2025-06-26/
CATEGORIES:Ouvert
END:VEVENT
BEGIN:VEVENT
DTSTART;VALUE=DATE:20250627
DTEND;VALUE=DATE:20250628
DTSTAMP:20260422T011937
CREATED:20250410T121153Z
LAST-MODIFIED:20250427T150753Z
UID:10000336-1750982400-1751068799@www.fort-la-pree.com
SUMMARY:Fermé
DESCRIPTION:
URL:https://www.fort-la-pree.com/event/ferme-2/2025-06-27/
CATEGORIES:Fermeture
END:VEVENT
BEGIN:VEVENT
DTSTART;VALUE=DATE:20250628
DTEND;VALUE=DATE:20250629
DTSTAMP:20260422T011937
CREATED:20250410T122316Z
LAST-MODIFIED:20250427T150739Z
UID:10000361-1751068800-1751155199@www.fort-la-pree.com
SUMMARY:Fermé
DESCRIPTION:
URL:https://www.fort-la-pree.com/event/ferme/2025-06-28/
CATEGORIES:Fermeture
END:VEVENT
BEGIN:VEVENT
DTSTART;VALUE=DATE:20250629
DTEND;VALUE=DATE:20250630
DTSTAMP:20260422T011937
CREATED:20250410T122407Z
LAST-MODIFIED:20250427T150732Z
UID:10000385-1751155200-1751241599@www.fort-la-pree.com
SUMMARY:Fermé
DESCRIPTION:
URL:https://www.fort-la-pree.com/event/ferme-3/2025-06-29/
CATEGORIES:Fermeture
END:VEVENT
END:VCALENDAR