BEGIN:VCALENDAR
VERSION:2.0
PRODID:-//fort-la-pree - ECPv6.10.0//NONSGML v1.0//EN
CALSCALE:GREGORIAN
METHOD:PUBLISH
X-WR-CALNAME:fort-la-pree
X-ORIGINAL-URL:https://www.fort-la-pree.com
X-WR-CALDESC:Évènements pour fort-la-pree
REFRESH-INTERVAL;VALUE=DURATION:PT1H
X-Robots-Tag:noindex
X-PUBLISHED-TTL:PT1H
BEGIN:VTIMEZONE
TZID:Europe/Paris
BEGIN:DAYLIGHT
TZOFFSETFROM:+0100
TZOFFSETTO:+0200
TZNAME:CEST
DTSTART:20260329T010000
END:DAYLIGHT
BEGIN:STANDARD
TZOFFSETFROM:+0200
TZOFFSETTO:+0100
TZNAME:CET
DTSTART:20261025T010000
END:STANDARD
END:VTIMEZONE
BEGIN:VEVENT
DTSTART;TZID=Europe/Paris:20261101T080000
DTEND;TZID=Europe/Paris:20261217T180000
DTSTAMP:20260422T093258
CREATED:20260224T150433Z
LAST-MODIFIED:20260224T150433Z
UID:10000949-1793520000-1797530400@www.fort-la-pree.com
SUMMARY:Fermeture annuelle
DESCRIPTION:❄️ Fermeture annuelle \nLe est désormais fermé au public pour la période hivernale. \nNous vous donnons rendez-vous les 18\, 19 et 20 décembre à l’occasion de notre Marché de Noël 🎄 \nAu plaisir de vous retrouver très bientôt pour cet événement festif !
URL:https://www.fort-la-pree.com/event/fermeture-annuelle/
LOCATION:Fort la Prée\, Route de Rivedoux\, LA FLOTTE\, 17630\, France
CATEGORIES:Fermeture
END:VEVENT
END:VCALENDAR