BEGIN:VCALENDAR
VERSION:2.0
PRODID:-//fort-la-pree - ECPv6.10.0//NONSGML v1.0//EN
CALSCALE:GREGORIAN
METHOD:PUBLISH
X-WR-CALNAME:fort-la-pree
X-ORIGINAL-URL:https://www.fort-la-pree.com
X-WR-CALDESC:Évènements pour fort-la-pree
REFRESH-INTERVAL;VALUE=DURATION:PT1H
X-Robots-Tag:noindex
X-PUBLISHED-TTL:PT1H
BEGIN:VTIMEZONE
TZID:Europe/Paris
BEGIN:DAYLIGHT
TZOFFSETFROM:+0100
TZOFFSETTO:+0200
TZNAME:CEST
DTSTART:20260329T010000
END:DAYLIGHT
BEGIN:STANDARD
TZOFFSETFROM:+0200
TZOFFSETTO:+0100
TZNAME:CET
DTSTART:20261025T010000
END:STANDARD
END:VTIMEZONE
BEGIN:VEVENT
DTSTART;TZID=Europe/Paris:20260828T080000
DTEND;TZID=Europe/Paris:20260831T140000
DTSTAMP:20260422T041253
CREATED:20260224T140322Z
LAST-MODIFIED:20260224T140322Z
UID:10000942-1787904000-1788184800@www.fort-la-pree.com
SUMMARY:Fermeture - privatisation
DESCRIPTION:⚠️ Fermeture exceptionnelle \nLe Fort La Prée sera fermé au public ce week-end en raison de sa privatisation pour la célébration d’un mariage. \n🕑 Réouverture lundi à 14h. \nNous vous remercions pour votre compréhension et serons ravis de vous accueillir à nouveau dès la réouverture ! \nÀ très bientôt au Fort La Prée.
URL:https://www.fort-la-pree.com/event/fermeture-privatisation-13/
LOCATION:Fort la Prée\, Route de Rivedoux\, LA FLOTTE\, 17630\, France
CATEGORIES:Fermeture
END:VEVENT
END:VCALENDAR