BEGIN:VCALENDAR
VERSION:2.0
PRODID:-//fort-la-pree - ECPv6.10.0//NONSGML v1.0//EN
CALSCALE:GREGORIAN
METHOD:PUBLISH
X-WR-CALNAME:fort-la-pree
X-ORIGINAL-URL:https://www.fort-la-pree.com
X-WR-CALDESC:Évènements pour fort-la-pree
REFRESH-INTERVAL;VALUE=DURATION:PT1H
X-Robots-Tag:noindex
X-PUBLISHED-TTL:PT1H
BEGIN:VTIMEZONE
TZID:Europe/Paris
BEGIN:DAYLIGHT
TZOFFSETFROM:+0100
TZOFFSETTO:+0200
TZNAME:CEST
DTSTART:20260329T010000
END:DAYLIGHT
BEGIN:STANDARD
TZOFFSETFROM:+0200
TZOFFSETTO:+0100
TZNAME:CET
DTSTART:20261025T010000
END:STANDARD
END:VTIMEZONE
BEGIN:VEVENT
DTSTART;TZID=Europe/Paris:20260819T190000
DTEND;TZID=Europe/Paris:20260819T233000
DTSTAMP:20260422T035909
CREATED:20260224T154141Z
LAST-MODIFIED:20260224T154141Z
UID:10000955-1787166000-1787182200@www.fort-la-pree.com
SUMMARY:LA PREE 80/90
DESCRIPTION:📢 LA PRÉE 80/90 \n  \nCet été\, le Fort La Prée vous invite à remonter le temps avec La Prée 80/90\, deux grandes soirées festives sous le signe de la musique\, de la convivialité et de la bonne humeur. ✨ \nLa soirée débutera par un karaoké géant spécial années 80/90 de 19h à 21h. Puis à partir de 21h\, place à la piste de danse avec une soirée animée par un DJ. \n  \n🗓️ Date : Mercredi 19 août 2026 \n🕗 Horaires : De 19h à 01h \n📍Où ? : Route de Rivedoux\, 17630\, La Flotte  \n  \n🍴 Buvette\, Food trucks et bar à huîtres sur place.  \nEntrée gratuite ! \n  \nInformations :  \n📞 07.49.82.11.11 / 05.46.09.73.33 \n📧 fortlapree17@gmail.com
URL:https://www.fort-la-pree.com/event/la-pree-80-90-2/
LOCATION:Fort la Prée\, Route de Rivedoux\, LA FLOTTE\, 17630\, France
CATEGORIES:Evènements
END:VEVENT
END:VCALENDAR