BEGIN:VCALENDAR
VERSION:2.0
PRODID:-//fort-la-pree - ECPv6.10.0//NONSGML v1.0//EN
CALSCALE:GREGORIAN
METHOD:PUBLISH
X-WR-CALNAME:fort-la-pree
X-ORIGINAL-URL:https://www.fort-la-pree.com
X-WR-CALDESC:Évènements pour fort-la-pree
REFRESH-INTERVAL;VALUE=DURATION:PT1H
X-Robots-Tag:noindex
X-PUBLISHED-TTL:PT1H
BEGIN:VTIMEZONE
TZID:Europe/Paris
BEGIN:DAYLIGHT
TZOFFSETFROM:+0100
TZOFFSETTO:+0200
TZNAME:CEST
DTSTART:20260329T010000
END:DAYLIGHT
BEGIN:STANDARD
TZOFFSETFROM:+0200
TZOFFSETTO:+0100
TZNAME:CET
DTSTART:20261025T010000
END:STANDARD
END:VTIMEZONE
BEGIN:VEVENT
DTSTART;TZID=Europe/Paris:20260722T140000
DTEND;TZID=Europe/Paris:20260722T233000
DTSTAMP:20260422T020550
CREATED:20260224T153413Z
LAST-MODIFIED:20260224T153413Z
UID:10000952-1784728800-1784763000@www.fort-la-pree.com
SUMMARY:ANNIVERSAIRE 400 ANS DU FORT
DESCRIPTION:📢 ANNIVERSAIRE DES 400 ANS DU FORT  \n  \nVenez fêter les 400 ans du Fort La Prée. Deux grandes journées festives vous attendent. ✨ \nDès 14h\, profitez de nombreuses activités proposées : Spectacles\, théâtre\, ateliers\, déambulations… Une programmation vivante et immersive pour célébrer l’histoire du Fort.  \n  \n🗓️ Date : Mercredi 22 juillet 2026 \n🕗 Horaires : De 14h à 00h \n📍Où ? : Route de Rivedoux\, 17630\, La Flotte  \n  \nEntrée gratuite ! \n  \n🍴 Banquet\, accompagné de plusieurs spectacles ainsi qu’un concert.  \nTarifs : 25€/adultes – 15€/enfants (-12 ans).  \n  \nInformations & réservations :  \n📞 07.49.82.11.11 / 05.46.09.73.33 \n📧 fortlapree17@gmail.com
URL:https://www.fort-la-pree.com/event/anniversaire-400-ans-du-fort/
LOCATION:Fort la Prée\, Route de Rivedoux\, LA FLOTTE\, 17630\, France
CATEGORIES:Evènements
END:VEVENT
END:VCALENDAR