BEGIN:VCALENDAR
VERSION:2.0
PRODID:-//fort-la-pree - ECPv6.10.0//NONSGML v1.0//EN
CALSCALE:GREGORIAN
METHOD:PUBLISH
X-WR-CALNAME:fort-la-pree
X-ORIGINAL-URL:https://www.fort-la-pree.com
X-WR-CALDESC:Évènements pour fort-la-pree
REFRESH-INTERVAL;VALUE=DURATION:PT1H
X-Robots-Tag:noindex
X-PUBLISHED-TTL:PT1H
BEGIN:VTIMEZONE
TZID:Europe/Paris
BEGIN:DAYLIGHT
TZOFFSETFROM:+0100
TZOFFSETTO:+0200
TZNAME:CEST
DTSTART:20260329T010000
END:DAYLIGHT
BEGIN:STANDARD
TZOFFSETFROM:+0200
TZOFFSETTO:+0100
TZNAME:CET
DTSTART:20261025T010000
END:STANDARD
END:VTIMEZONE
BEGIN:VEVENT
DTSTART;TZID=Europe/Paris:20260619T180000
DTEND;TZID=Europe/Paris:20260619T233000
DTSTAMP:20260422T004231
CREATED:20260224T150645Z
LAST-MODIFIED:20260224T152020Z
UID:10000950-1781892000-1781911800@www.fort-la-pree.com
SUMMARY:Fête de la musique
DESCRIPTION:📢 FÊTE DE LA MUSIQUE AU FORT LA PRÉE \n  \nÀ l’occasion de la Fête de la musique\, le Fort La Prée vous invite le vendredi 19 juin à une grande soirée festive ! ✨ \nDès 18h30\, participez à un karaoké géant pour échauffer vos voix et partager un moment convivial. A 20h\, place au concert du groupe Flash Gordon pour faire vibrer le Fort. Puis\, à partir de 22h\, la soirée se poursuit avec un DJ jusqu’au bout de la nuit.  \n  \n🗓️ Date : Vendredi 19 juin 2026 \n🕗 Horaires : De 18h à 00h  \n📍Où ? : Route de Rivedoux\, 17630\, La Flotte  \n  \n🍴 Buvette\, Food trucks et bar à huîtres sur place.  \nEntrée gratuite ! \n  \nInformations :  \n📞 07.49.82.11.11 / 05.46.09.73.33 \n📧 fortlapree17@gmail.com  \nFÊTE DE LA MUSIQUE
URL:https://www.fort-la-pree.com/event/fete-de-la-musique-2/
LOCATION:Fort la Prée\, Route de Rivedoux\, LA FLOTTE\, 17630\, France
CATEGORIES:Evènements
END:VEVENT
END:VCALENDAR