BEGIN:VCALENDAR
VERSION:2.0
PRODID:-//fort-la-pree - ECPv6.10.0//NONSGML v1.0//EN
CALSCALE:GREGORIAN
METHOD:PUBLISH
X-WR-CALNAME:fort-la-pree
X-ORIGINAL-URL:https://www.fort-la-pree.com
X-WR-CALDESC:Évènements pour fort-la-pree
REFRESH-INTERVAL;VALUE=DURATION:PT1H
X-Robots-Tag:noindex
X-PUBLISHED-TTL:PT1H
BEGIN:VTIMEZONE
TZID:Europe/Paris
BEGIN:DAYLIGHT
TZOFFSETFROM:+0100
TZOFFSETTO:+0200
TZNAME:CEST
DTSTART:20250330T010000
END:DAYLIGHT
BEGIN:STANDARD
TZOFFSETFROM:+0200
TZOFFSETTO:+0100
TZNAME:CET
DTSTART:20251026T010000
END:STANDARD
END:VTIMEZONE
BEGIN:VEVENT
DTSTART;VALUE=DATE:20250729
DTEND;VALUE=DATE:20250731
DTSTAMP:20260421T213720
CREATED:20250410T135104Z
LAST-MODIFIED:20250427T150438Z
UID:10000761-1753747200-1753919999@www.fort-la-pree.com
SUMMARY:Festival La Prée Rock 14h-01h
DESCRIPTION:Festival La Prée Rock 2ème édition les 29-30 juillet \nBack to the Legends ! \nGrands classiques du Rock\, village du Festival\, expositions\, initiation batterie/guitare etc. \nOuverture du Village à 14h \nConcerts à partir de 18h30 \nEntrée gratuite\, buvette et restauration sur place.
URL:https://www.fort-la-pree.com/event/festival-la-pree-rock/
CATEGORIES:Ouvert
END:VEVENT
END:VCALENDAR