BEGIN:VCALENDAR
VERSION:2.0
PRODID:-//fort-la-pree - ECPv6.10.0//NONSGML v1.0//EN
CALSCALE:GREGORIAN
METHOD:PUBLISH
X-ORIGINAL-URL:https://www.fort-la-pree.com
X-WR-CALDESC:Évènements pour fort-la-pree
REFRESH-INTERVAL;VALUE=DURATION:PT1H
X-Robots-Tag:noindex
X-PUBLISHED-TTL:PT1H
BEGIN:VTIMEZONE
TZID:Europe/Paris
BEGIN:DAYLIGHT
TZOFFSETFROM:+0100
TZOFFSETTO:+0200
TZNAME:CEST
DTSTART:20250330T010000
END:DAYLIGHT
BEGIN:STANDARD
TZOFFSETFROM:+0200
TZOFFSETTO:+0100
TZNAME:CET
DTSTART:20251026T010000
END:STANDARD
END:VTIMEZONE
BEGIN:VEVENT
DTSTART;VALUE=DATE:20250722
DTEND;VALUE=DATE:20250723
DTSTAMP:20260421T234348
CREATED:20250410T130033Z
LAST-MODIFIED:20250427T150555Z
UID:10000493-1753142400-1753228799@www.fort-la-pree.com
SUMMARY:Ouvert de 10h à 19h
DESCRIPTION:Ouvert à la visite
URL:https://www.fort-la-pree.com/event/ouvert-de-10h-a-19h/2025-07-22/
CATEGORIES:Ouvert
END:VEVENT
BEGIN:VEVENT
DTSTART;VALUE=DATE:20250722
DTEND;VALUE=DATE:20250723
DTSTAMP:20260421T234348
CREATED:20250412T110012Z
LAST-MODIFIED:20250427T151100Z
UID:10000901-1753142400-1753228799@www.fort-la-pree.com
SUMMARY:Chasse au trésor
DESCRIPTION:Chasse au trésor à réaliser en famille pour les enfants à partir de 6 ans. \nUniquement sur réservation au plus tard à 12h le jour J : 05 46 09 73 33 \nDébut de l’activité à 14h.
URL:https://www.fort-la-pree.com/event/chasse-au-tresor-des-14h/2025-07-22/
LOCATION:Fort la Prée\, Route de Rivedoux\, LA FLOTTE\, 17630\, France
CATEGORIES:Chasse au trésor
END:VEVENT
END:VCALENDAR