BEGIN:VCALENDAR
VERSION:2.0
PRODID:-//fort-la-pree - ECPv6.10.0//NONSGML v1.0//EN
CALSCALE:GREGORIAN
METHOD:PUBLISH
X-ORIGINAL-URL:https://www.fort-la-pree.com
X-WR-CALDESC:Évènements pour fort-la-pree
REFRESH-INTERVAL;VALUE=DURATION:PT1H
X-Robots-Tag:noindex
X-PUBLISHED-TTL:PT1H
BEGIN:VTIMEZONE
TZID:Europe/Paris
BEGIN:DAYLIGHT
TZOFFSETFROM:+0100
TZOFFSETTO:+0200
TZNAME:CEST
DTSTART:20250330T010000
END:DAYLIGHT
BEGIN:STANDARD
TZOFFSETFROM:+0200
TZOFFSETTO:+0100
TZNAME:CET
DTSTART:20251026T010000
END:STANDARD
END:VTIMEZONE
BEGIN:VEVENT
DTSTART;VALUE=DATE:20250630
DTEND;VALUE=DATE:20250701
DTSTAMP:20260421T234152
CREATED:20250408T143029Z
LAST-MODIFIED:20250427T150726Z
UID:10000328-1751241600-1751327999@www.fort-la-pree.com
SUMMARY:Ouvert de 14h30 à 18h30
DESCRIPTION:
URL:https://www.fort-la-pree.com/event/ouvert-de-14h30-a-18h30/2025-06-30/
CATEGORIES:Ouvert
END:VEVENT
END:VCALENDAR